BEGIN:VCALENDAR
VERSION:2.0
PRODID:-//The Trinitarians - India - ECPv5.3.2.1//NONSGML v1.0//EN
CALSCALE:GREGORIAN
METHOD:PUBLISH
X-WR-CALNAME:The Trinitarians - India
X-ORIGINAL-URL:https://trinitariansindia.org/wp
X-WR-CALDESC:Events for The Trinitarians - India
BEGIN:VTIMEZONE
TZID:UTC
BEGIN:STANDARD
TZOFFSETFROM:+0000
TZOFFSETTO:+0000
TZNAME:UTC
DTSTART:20200101T000000
END:STANDARD
END:VTIMEZONE
BEGIN:VEVENT
DTSTART;VALUE=DATE:20201109
DTEND;VALUE=DATE:20201110
DTSTAMP:20260426T030028
CREATED:20201211T091446Z
LAST-MODIFIED:20201211T091446Z
UID:8273-1604880000-1604966399@trinitariansindia.org
SUMMARY:Happy Birthday Mrs. Sherly
DESCRIPTION:The Community celebrated the birthday of Mrs. Sherly Shantharaj\, our assistant cook\, who is the only female working staff of th community. The community wished her all the greetings and sweetness of the day.
URL:https://trinitariansindia.org/wp/event/happy-birthday-mrs-sherly/
LOCATION:Holy Trinity Ashram\, Thrissur\, Holy Trinity Ashram\, Thrissur\, Kerala\, 680618\, India
CATEGORIES:Birthday
ATTACH;FMTTYPE=image/png:https://trinitariansindia.org/wp/wp-content/uploads/2020/12/TCR-Chechi-bday-Nov2020.png
END:VEVENT
END:VCALENDAR