BEGIN:VCALENDAR
VERSION:2.0
PRODID:-//The Trinitarians - India - ECPv5.3.2.1//NONSGML v1.0//EN
CALSCALE:GREGORIAN
METHOD:PUBLISH
X-WR-CALNAME:The Trinitarians - India
X-ORIGINAL-URL:https://trinitariansindia.org/wp
X-WR-CALDESC:Events for The Trinitarians - India
BEGIN:VTIMEZONE
TZID:UTC
BEGIN:STANDARD
TZOFFSETFROM:+0000
TZOFFSETTO:+0000
TZNAME:UTC
DTSTART:20190101T000000
END:STANDARD
END:VTIMEZONE
BEGIN:VEVENT
DTSTART;VALUE=DATE:20190214
DTEND;VALUE=DATE:20190216
DTSTAMP:20260420T151300
CREATED:20190306T103637Z
LAST-MODIFIED:20190306T103637Z
UID:5684-1550102400-1550275199@trinitariansindia.org
SUMMARY:Happy Birthday Sr. Simin and Aphyna
DESCRIPTION:We celebrated the birthday of our Sisters  Simin and Aphyna in the presence of the community and their family members. It was a joyful time for us. The  Trinitarian Family is extended to our family members.
URL:https://trinitariansindia.org/wp/event/happy-birthday-sr-simin-and-aphyna/
LOCATION:Trinitarian Sisters\, Thrissur\, Holy Trinity Convent\, Thrissur\, Kerala\, 680618\, India
CATEGORIES:Birthday
ATTACH;FMTTYPE=image/png:https://trinitariansindia.org/wp/wp-content/uploads/2019/03/Sisters-Bday-Simin-Feb2019.png
END:VEVENT
END:VCALENDAR