BEGIN:VCALENDAR
VERSION:2.0
PRODID:-//The Trinitarians - India - ECPv5.3.2.1//NONSGML v1.0//EN
CALSCALE:GREGORIAN
METHOD:PUBLISH
X-WR-CALNAME:The Trinitarians - India
X-ORIGINAL-URL:https://trinitariansindia.org/wp
X-WR-CALDESC:Events for The Trinitarians - India
BEGIN:VTIMEZONE
TZID:UTC
BEGIN:STANDARD
TZOFFSETFROM:+0000
TZOFFSETTO:+0000
TZNAME:UTC
DTSTART:20190101T000000
END:STANDARD
END:VTIMEZONE
BEGIN:VEVENT
DTSTART;VALUE=DATE:20190330
DTEND;VALUE=DATE:20190331
DTSTAMP:20260424T112808
CREATED:20190412T110124Z
LAST-MODIFIED:20190412T110124Z
UID:5850-1553904000-1553990399@trinitariansindia.org
SUMMARY:Happy Birthday to Fr. Jins VD
DESCRIPTION:Birthday celebrations of Fr. Jins and other brothers were anticipated and celebrated by the community since brothers will be away for their vacation coming months.  The Community greeted\, prayed and wished Fr. Jins and the brothers.
URL:https://trinitariansindia.org/wp/event/happy-birthday-to-fr-jins-vd/
LOCATION:Holy Trinity Ashram\, Thrissur\, Holy Trinity Ashram\, Thrissur\, Kerala\, 680618\, India
CATEGORIES:Birthday
ATTACH;FMTTYPE=image/png:https://trinitariansindia.org/wp/wp-content/uploads/2019/04/TCR-bday-Jins-March2019.png
END:VEVENT
END:VCALENDAR