BEGIN:VCALENDAR
VERSION:2.0
PRODID:-//The Trinitarians - India - ECPv5.3.2.1//NONSGML v1.0//EN
CALSCALE:GREGORIAN
METHOD:PUBLISH
X-WR-CALNAME:The Trinitarians - India
X-ORIGINAL-URL:https://trinitariansindia.org/wp
X-WR-CALDESC:Events for The Trinitarians - India
BEGIN:VTIMEZONE
TZID:UTC
BEGIN:STANDARD
TZOFFSETFROM:+0000
TZOFFSETTO:+0000
TZNAME:UTC
DTSTART:20190101T000000
END:STANDARD
END:VTIMEZONE
BEGIN:VEVENT
DTSTART;VALUE=DATE:20190512
DTEND;VALUE=DATE:20190513
DTSTAMP:20260422T172112
CREATED:20190614T102639Z
LAST-MODIFIED:20190614T102639Z
UID:6021-1557619200-1557705599@trinitariansindia.org
SUMMARY:Happy Birthday to Fr. Jojo
DESCRIPTION:The community and the parish celebrated the birthday of Fr. Jojo\, where all wished and prayed for him.  Fr. Jojo serves as the Minister Conventual\, of the community in Assam and the Parish Priest and Principal of the School in Tamulpur.
URL:https://trinitariansindia.org/wp/event/happy-birthday-to-fr-jojo-2/
LOCATION:Tritva Bhavan\, Assam
CATEGORIES:Birthday
ATTACH;FMTTYPE=image/png:https://trinitariansindia.org/wp/wp-content/uploads/2019/06/ASSAM-Bday-frJojo-May2019.png
END:VEVENT
END:VCALENDAR