BEGIN:VCALENDAR
VERSION:2.0
PRODID:-//The Trinitarians - India - ECPv5.3.2.1//NONSGML v1.0//EN
CALSCALE:GREGORIAN
METHOD:PUBLISH
X-WR-CALNAME:The Trinitarians - India
X-ORIGINAL-URL:https://trinitariansindia.org/wp
X-WR-CALDESC:Events for The Trinitarians - India
BEGIN:VTIMEZONE
TZID:UTC
BEGIN:STANDARD
TZOFFSETFROM:+0000
TZOFFSETTO:+0000
TZNAME:UTC
DTSTART:20190101T000000
END:STANDARD
END:VTIMEZONE
BEGIN:VEVENT
DTSTART;VALUE=DATE:20190413
DTEND;VALUE=DATE:20190414
DTSTAMP:20260423T221903
CREATED:20190503T172511Z
LAST-MODIFIED:20190503T172511Z
UID:5983-1555113600-1555199999@trinitariansindia.org
SUMMARY:Happy Birthday to Fr. Mathew
DESCRIPTION:Community celebrated the birthday of Fr. Mathew. Although birthday was on 12th of April community wished him on 13th. On 13th Evening there was a half an adoration and followed by supper\, in which Holy Cross Sisters also joined. Community celebrated with him and prayed for him.
URL:https://trinitariansindia.org/wp/event/happy-birthday-to-fr-mathew/
LOCATION:Holy Trinity Ashram – Bengaluru\, Holy Trinity Ashram\, Bengaluru\, karnataka\, 560076\, India
CATEGORIES:Birthday
ATTACH;FMTTYPE=image/png:https://trinitariansindia.org/wp/wp-content/uploads/2019/05/BLR-Bday-fr-Mathew-April-2019.png
END:VEVENT
END:VCALENDAR