BEGIN:VCALENDAR
VERSION:2.0
PRODID:-//The Trinitarians - India - ECPv5.3.2.1//NONSGML v1.0//EN
CALSCALE:GREGORIAN
METHOD:PUBLISH
X-WR-CALNAME:The Trinitarians - India
X-ORIGINAL-URL:https://trinitariansindia.org/wp
X-WR-CALDESC:Events for The Trinitarians - India
BEGIN:VTIMEZONE
TZID:UTC
BEGIN:STANDARD
TZOFFSETFROM:+0000
TZOFFSETTO:+0000
TZNAME:UTC
DTSTART:20190101T000000
END:STANDARD
END:VTIMEZONE
BEGIN:VEVENT
DTSTART;VALUE=DATE:20190226
DTEND;VALUE=DATE:20190227
DTSTAMP:20260423T124253
CREATED:20190303T162509Z
LAST-MODIFIED:20190303T162701Z
UID:5659-1551139200-1551225599@trinitariansindia.org
SUMMARY:Happy Birthday to Fr. Shinu
DESCRIPTION:Community found time to celebrate the birthday of Fr. Shinu in anticipation and to thank him as he was leaving for Bangalore after helping the community.
URL:https://trinitariansindia.org/wp/event/happy-birthday-to-fr-shinu/
LOCATION:Holy Trinity Ashram\, Kasaragod
CATEGORIES:Birthday
ATTACH;FMTTYPE=image/png:https://trinitariansindia.org/wp/wp-content/uploads/2019/03/KGQ-Bday-frShinu-Feb2019.png
END:VEVENT
END:VCALENDAR