BEGIN:VCALENDAR
VERSION:2.0
PRODID:-//The Trinitarians - India - ECPv5.3.2.1//NONSGML v1.0//EN
CALSCALE:GREGORIAN
METHOD:PUBLISH
X-WR-CALNAME:The Trinitarians - India
X-ORIGINAL-URL:https://trinitariansindia.org/wp
X-WR-CALDESC:Events for The Trinitarians - India
BEGIN:VTIMEZONE
TZID:UTC
BEGIN:STANDARD
TZOFFSETFROM:+0000
TZOFFSETTO:+0000
TZNAME:UTC
DTSTART:20180101T000000
END:STANDARD
END:VTIMEZONE
BEGIN:VEVENT
DTSTART;VALUE=DATE:20181127
DTEND;VALUE=DATE:20181128
DTSTAMP:20260422T083544
CREATED:20181216T032135Z
LAST-MODIFIED:20181216T032135Z
UID:5210-1543276800-1543363199@trinitariansindia.org
SUMMARY:Happy Birthday to John Paul
DESCRIPTION:Community celebrated the birthday of John Paul. We wished him and offered our prayers. Bro. John Paul is doing his studies in the De Matha Home.
URL:https://trinitariansindia.org/wp/event/happy-birthday-to-john-paul/
LOCATION:Holy Trinity Ashram – Bengaluru\, Holy Trinity Ashram\, Bengaluru\, karnataka\, 560076\, India
CATEGORIES:Birthday
ATTACH;FMTTYPE=image/png:https://trinitariansindia.org/wp/wp-content/uploads/2018/12/BLR-Bday-John-Paul-Nov2018.png
END:VEVENT
END:VCALENDAR