BEGIN:VCALENDAR
VERSION:2.0
PRODID:-//The Trinitarians - India - ECPv5.3.2.1//NONSGML v1.0//EN
CALSCALE:GREGORIAN
METHOD:PUBLISH
X-WR-CALNAME:The Trinitarians - India
X-ORIGINAL-URL:https://trinitariansindia.org/wp
X-WR-CALDESC:Events for The Trinitarians - India
BEGIN:VTIMEZONE
TZID:UTC
BEGIN:STANDARD
TZOFFSETFROM:+0000
TZOFFSETTO:+0000
TZNAME:UTC
DTSTART:20190101T000000
END:STANDARD
END:VTIMEZONE
BEGIN:VEVENT
DTSTART;VALUE=DATE:20190209
DTEND;VALUE=DATE:20190210
DTSTAMP:20260420T222528
CREATED:20190306T160535Z
LAST-MODIFIED:20190306T160748Z
UID:5712-1549670400-1549756799@trinitariansindia.org
SUMMARY:Happy Birthday to Mr. Jerry!
DESCRIPTION:The community celebrated the birthday of Mr. Jerry who is working in the property. On the particular day the whole community remembered all the wonderful works which he renders to us.
URL:https://trinitariansindia.org/wp/event/happy-birthday-to-mr-jerry/
LOCATION:Holy Trinity Ashram – Bengaluru\, Holy Trinity Ashram\, Bengaluru\, karnataka\, 560076\, India
CATEGORIES:Birthday
ATTACH;FMTTYPE=image/png:https://trinitariansindia.org/wp/wp-content/uploads/2019/03/BLR-bday-Jerry-Feb2019.png
END:VEVENT
END:VCALENDAR