BEGIN:VCALENDAR
VERSION:2.0
PRODID:-//The Trinitarians - India - ECPv5.3.2.1//NONSGML v1.0//EN
CALSCALE:GREGORIAN
METHOD:PUBLISH
X-WR-CALNAME:The Trinitarians - India
X-ORIGINAL-URL:https://trinitariansindia.org/wp
X-WR-CALDESC:Events for The Trinitarians - India
BEGIN:VTIMEZONE
TZID:UTC
BEGIN:STANDARD
TZOFFSETFROM:+0000
TZOFFSETTO:+0000
TZNAME:UTC
DTSTART:20190101T000000
END:STANDARD
END:VTIMEZONE
BEGIN:VEVENT
DTSTART;VALUE=DATE:20190410
DTEND;VALUE=DATE:20190411
DTSTAMP:20260424T032420
CREATED:20190430T055614Z
LAST-MODIFIED:20190430T055614Z
UID:5934-1554854400-1554940799@trinitariansindia.org
SUMMARY:Happy Birthday to Mr. Thankachan!
DESCRIPTION:The birthday of Mr. Thankachan\, one of the staff working in the property\, was celebrated in the community on this day. Community wished the greetings and his family visited the community in the evening.
URL:https://trinitariansindia.org/wp/event/happy-birthday-to-mr-thankachan/
LOCATION:Holy Trinity Ashram\, Kasaragod
CATEGORIES:Birthday
ATTACH;FMTTYPE=image/png:https://trinitariansindia.org/wp/wp-content/uploads/2019/04/KGQ-bday-Thankachan-April-2019.png
END:VEVENT
END:VCALENDAR