BEGIN:VCALENDAR
VERSION:2.0
PRODID:-//The Trinitarians - India - ECPv5.3.2.1//NONSGML v1.0//EN
CALSCALE:GREGORIAN
METHOD:PUBLISH
X-WR-CALNAME:The Trinitarians - India
X-ORIGINAL-URL:https://trinitariansindia.org/wp
X-WR-CALDESC:Events for The Trinitarians - India
BEGIN:VTIMEZONE
TZID:UTC
BEGIN:STANDARD
TZOFFSETFROM:+0000
TZOFFSETTO:+0000
TZNAME:UTC
DTSTART:20220101T000000
END:STANDARD
END:VTIMEZONE
BEGIN:VEVENT
DTSTART;VALUE=DATE:20220610
DTEND;VALUE=DATE:20220611
DTSTAMP:20260421T122833
CREATED:20220709T060633Z
LAST-MODIFIED:20220709T060633Z
UID:10375-1654819200-1654905599@trinitariansindia.org
SUMMARY:Happy Feast
DESCRIPTION:Happy feast to all. Community celebrated the feast of St. Mariam Thresia.
URL:https://trinitariansindia.org/wp/event/happy-feast-4/
LOCATION:Holy Trinity Ashram\, Kasaragod
CATEGORIES:Feast
ATTACH;FMTTYPE=image/png:https://trinitariansindia.org/wp/wp-content/uploads/2022/07/KGQ-Mariam-Thresia-feast-June2022.png
END:VEVENT
END:VCALENDAR