BEGIN:VCALENDAR
VERSION:2.0
PRODID:-//The Trinitarians - India - ECPv5.3.2.1//NONSGML v1.0//EN
CALSCALE:GREGORIAN
METHOD:PUBLISH
X-WR-CALNAME:The Trinitarians - India
X-ORIGINAL-URL:https://trinitariansindia.org/wp
X-WR-CALDESC:Events for The Trinitarians - India
BEGIN:VTIMEZONE
TZID:UTC
BEGIN:STANDARD
TZOFFSETFROM:+0000
TZOFFSETTO:+0000
TZNAME:UTC
DTSTART:20220101T000000
END:STANDARD
END:VTIMEZONE
BEGIN:VEVENT
DTSTART;VALUE=DATE:20220930
DTEND;VALUE=DATE:20221001
DTSTAMP:20260421T184509
CREATED:20221015T052158Z
LAST-MODIFIED:20221015T052158Z
UID:10959-1664496000-1664582399@trinitariansindia.org
SUMMARY:Happy Feast and Birthday Sr. Leena CHF
DESCRIPTION:The Community renowned the Birthday of our mother-figure in the campus\, Sr. Leena CHF excitingly. Bro. Amal felicitated her on behalf of the community. Bros. Alen Jaison and Ansan Benny wished her with the birthday card and the bouquet. Sr. Leena CHF animates the Spirituality class for the aspirancy students.
URL:https://trinitariansindia.org/wp/event/happy-feast-and-birthday-sr-leena-chf/
LOCATION:Holy Trinity Ashram\, Thrissur\, Holy Trinity Ashram\, Thrissur\, Kerala\, 680618\, India
CATEGORIES:Birthday,Feast
ATTACH;FMTTYPE=image/png:https://trinitariansindia.org/wp/wp-content/uploads/2022/10/TCR-bday-and-feast-day-sr.leena-Sept2022.png
END:VEVENT
END:VCALENDAR