BEGIN:VCALENDAR
VERSION:2.0
PRODID:-//The Trinitarians - India - ECPv5.3.2.1//NONSGML v1.0//EN
CALSCALE:GREGORIAN
METHOD:PUBLISH
X-WR-CALNAME:The Trinitarians - India
X-ORIGINAL-URL:https://trinitariansindia.org/wp
X-WR-CALDESC:Events for The Trinitarians - India
BEGIN:VTIMEZONE
TZID:UTC
BEGIN:STANDARD
TZOFFSETFROM:+0000
TZOFFSETTO:+0000
TZNAME:UTC
DTSTART:20220101T000000
END:STANDARD
END:VTIMEZONE
BEGIN:VEVENT
DTSTART;VALUE=DATE:20220815
DTEND;VALUE=DATE:20220816
DTSTAMP:20260425T110245
CREATED:20220909T053133Z
LAST-MODIFIED:20220909T053133Z
UID:10738-1660521600-1660607999@trinitariansindia.org
SUMMARY:Happy feast of Assumption
DESCRIPTION:Community celebrated the assumption of the Blessed Virgin Mary and Independence Day. We also conducted a rosary Procession in the evening.
URL:https://trinitariansindia.org/wp/event/happy-feast-of-assumption/
LOCATION:Holy Trinity Ashram\, Kasaragod
CATEGORIES:Feast
ATTACH;FMTTYPE=image/png:https://trinitariansindia.org/wp/wp-content/uploads/2022/09/KGQ-feast-of-Assumption-Sept-2022.png
END:VEVENT
END:VCALENDAR