BEGIN:VCALENDAR
VERSION:2.0
PRODID:-//The Trinitarians - India - ECPv5.3.2.1//NONSGML v1.0//EN
CALSCALE:GREGORIAN
METHOD:PUBLISH
X-WR-CALNAME:The Trinitarians - India
X-ORIGINAL-URL:https://trinitariansindia.org/wp
X-WR-CALDESC:Events for The Trinitarians - India
BEGIN:VTIMEZONE
TZID:UTC
BEGIN:STANDARD
TZOFFSETFROM:+0000
TZOFFSETTO:+0000
TZNAME:UTC
DTSTART:20210101T000000
END:STANDARD
END:VTIMEZONE
BEGIN:VEVENT
DTSTART;VALUE=DATE:20211219
DTEND;VALUE=DATE:20211220
DTSTAMP:20260423T030025
CREATED:20220113T044237Z
LAST-MODIFIED:20220113T044237Z
UID:9755-1639872000-1639958399@trinitariansindia.org
SUMMARY:Happy Feast of our Founder
DESCRIPTION:The members of the third Order in parish community celebrated the feast of the founder of the Order.  All the friars\, Trinitarian sisters and third Order members participated the celebration.
URL:https://trinitariansindia.org/wp/event/happy-feast-of-our-founder/
LOCATION:Rome
CATEGORIES:Feast
ATTACH;FMTTYPE=image/png:https://trinitariansindia.org/wp/wp-content/uploads/2022/01/ITALY-feast-of-st-john-de-matha-Dec2021.png
END:VEVENT
END:VCALENDAR