BEGIN:VCALENDAR
VERSION:2.0
PRODID:-//The Trinitarians - India - ECPv5.3.2.1//NONSGML v1.0//EN
CALSCALE:GREGORIAN
METHOD:PUBLISH
X-WR-CALNAME:The Trinitarians - India
X-ORIGINAL-URL:https://trinitariansindia.org/wp
X-WR-CALDESC:Events for The Trinitarians - India
BEGIN:VTIMEZONE
TZID:UTC
BEGIN:STANDARD
TZOFFSETFROM:+0000
TZOFFSETTO:+0000
TZNAME:UTC
DTSTART:20230101T000000
END:STANDARD
END:VTIMEZONE
BEGIN:VEVENT
DTSTART;VALUE=DATE:20230728
DTEND;VALUE=DATE:20230729
DTSTAMP:20260423T182645
CREATED:20230806T163656Z
LAST-MODIFIED:20230806T163656Z
UID:12165-1690502400-1690588799@trinitariansindia.org
SUMMARY:Happy Feast Sr Alphonsa
DESCRIPTION:Jesus shows us His love by giving us crosses.  He sends crosses and sorrows only to those whom He loves. As for me\, suffering is delightful. I consider that day when I don’t have the chance to suffer\, as a day which is lost.  It was the feast day of St. Alphonsa we celebrated the feast of our Superior Sr. Alphonsa on this day with little programs prepared by our sisters. We prayed for her in the community prayer.
URL:https://trinitariansindia.org/wp/event/happy-feast-sr-alphonsa/
LOCATION:Trinitarian Sisters\, Thrissur\, Holy Trinity Convent\, Thrissur\, Kerala\, 680618\, India
CATEGORIES:Feast
ATTACH;FMTTYPE=image/png:https://trinitariansindia.org/wp/wp-content/uploads/2023/08/SISTERS-happy-feast-sr-alphonsa-July2-23.png
END:VEVENT
END:VCALENDAR