BEGIN:VCALENDAR
VERSION:2.0
PRODID:-//The Trinitarians - India - ECPv5.3.2.1//NONSGML v1.0//EN
CALSCALE:GREGORIAN
METHOD:PUBLISH
X-WR-CALNAME:The Trinitarians - India
X-ORIGINAL-URL:https://trinitariansindia.org/wp
X-WR-CALDESC:Events for The Trinitarians - India
BEGIN:VTIMEZONE
TZID:UTC
BEGIN:STANDARD
TZOFFSETFROM:+0000
TZOFFSETTO:+0000
TZNAME:UTC
DTSTART:20220101T000000
END:STANDARD
END:VTIMEZONE
BEGIN:VEVENT
DTSTART;VALUE=DATE:20220804
DTEND;VALUE=DATE:20220805
DTSTAMP:20260425T233250
CREATED:20220909T060602Z
LAST-MODIFIED:20220909T060602Z
UID:10742-1659571200-1659657599@trinitariansindia.org
SUMMARY:Happy Feast to Fathers!
DESCRIPTION:Community wished the Fathers on the feast Day of John Mary Vianney\, the patron of the priests.
URL:https://trinitariansindia.org/wp/event/happy-feast-to-fathers/
LOCATION:Holy Trinity Ashram\, Kasaragod
CATEGORIES:Feast
ATTACH;FMTTYPE=image/png:https://trinitariansindia.org/wp/wp-content/uploads/2022/09/KGQ-Happy-Feast-Sept-2022.png
END:VEVENT
END:VCALENDAR