BEGIN:VCALENDAR
VERSION:2.0
PRODID:-//The Trinitarians - India - ECPv5.3.2.1//NONSGML v1.0//EN
CALSCALE:GREGORIAN
METHOD:PUBLISH
X-WR-CALNAME:The Trinitarians - India
X-ORIGINAL-URL:https://trinitariansindia.org/wp
X-WR-CALDESC:Events for The Trinitarians - India
BEGIN:VTIMEZONE
TZID:UTC
BEGIN:STANDARD
TZOFFSETFROM:+0000
TZOFFSETTO:+0000
TZNAME:UTC
DTSTART:20200101T000000
END:STANDARD
END:VTIMEZONE
BEGIN:VEVENT
DTSTART;VALUE=DATE:20200613
DTEND;VALUE=DATE:20200614
DTSTAMP:20260422T201900
CREATED:20200717T030954Z
LAST-MODIFIED:20200717T030954Z
UID:7657-1592006400-1592092799@trinitariansindia.org
SUMMARY:Happy Feast to Fr. Joshi Antony
DESCRIPTION:The feast of the Patron of the parish was celebrated with the Triduum from Wednesday to Friday. The feast day mass on Saturday was presided over by Fr. Sibi puthushery\, O.SS.T.  The community also celebrated the feast of Fr. Joshi Antony as st. Antony is his patron saint.
URL:https://trinitariansindia.org/wp/event/happy-feast-to-fr-joshi-antony/
LOCATION:Rome
CATEGORIES:Feast
ATTACH;FMTTYPE=image/png:https://trinitariansindia.org/wp/wp-content/uploads/2020/07/ITALY-happy-feast-June2020.png
END:VEVENT
END:VCALENDAR