BEGIN:VCALENDAR
VERSION:2.0
PRODID:-//The Trinitarians - India - ECPv5.3.2.1//NONSGML v1.0//EN
CALSCALE:GREGORIAN
METHOD:PUBLISH
X-WR-CALNAME:The Trinitarians - India
X-ORIGINAL-URL:https://trinitariansindia.org/wp
X-WR-CALDESC:Events for The Trinitarians - India
BEGIN:VTIMEZONE
TZID:UTC
BEGIN:STANDARD
TZOFFSETFROM:+0000
TZOFFSETTO:+0000
TZNAME:UTC
DTSTART:20220101T000000
END:STANDARD
END:VTIMEZONE
BEGIN:VEVENT
DTSTART;VALUE=DATE:20220908
DTEND;VALUE=DATE:20220909
DTSTAMP:20260423T233321
CREATED:20221014T053847Z
LAST-MODIFIED:20221014T053847Z
UID:10888-1662595200-1662681599@trinitariansindia.org
SUMMARY:Happy Onam
DESCRIPTION:The Onam celebrations began with the Holy Qurbana\, celebrated by Fr. Pradeep Puthenveettil\, O.SS.T.\, the Minister Conventual. Fr. Pradeep blessed the brothers’-designed flower carpet (Onapookalam) after the mass. We had Onam sadhya at midday. Some of the brothers from St. Peter’s Pontifical Seminary and the sisters from Holy Cross joined. us for the celebrations. Onam games were played in the morning\, while prize distribution took place in the afternoon.
URL:https://trinitariansindia.org/wp/event/happy-onam-5/
LOCATION:Holy Trinity Ashram – Bengaluru\, Holy Trinity Ashram\, Bengaluru\, karnataka\, 560076\, India
CATEGORIES:Celebration
ATTACH;FMTTYPE=image/png:https://trinitariansindia.org/wp/wp-content/uploads/2022/10/BLR-Onam-celebrations-Sept2022.png
END:VEVENT
END:VCALENDAR