BEGIN:VCALENDAR
VERSION:2.0
PRODID:-//The Trinitarians - India - ECPv5.3.2.1//NONSGML v1.0//EN
CALSCALE:GREGORIAN
METHOD:PUBLISH
X-WR-CALNAME:The Trinitarians - India
X-ORIGINAL-URL:https://trinitariansindia.org/wp
X-WR-CALDESC:Events for The Trinitarians - India
BEGIN:VTIMEZONE
TZID:UTC
BEGIN:STANDARD
TZOFFSETFROM:+0000
TZOFFSETTO:+0000
TZNAME:UTC
DTSTART:20220101T000000
END:STANDARD
END:VTIMEZONE
BEGIN:VEVENT
DTSTART;VALUE=DATE:20221007
DTEND;VALUE=DATE:20221008
DTSTAMP:20260421T204104
CREATED:20221108T173026Z
LAST-MODIFIED:20221108T173026Z
UID:11350-1665100800-1665187199@trinitariansindia.org
SUMMARY:Hearty Congrats to Fr. Biju
DESCRIPTION:Community  congratulated Fr. Biju as he was elected as the new councilor of the Indian Vice Province.
URL:https://trinitariansindia.org/wp/event/hearty-congrats-to-fr-biju/
LOCATION:Holy Trinity Ashram\, Kasaragod
CATEGORIES:Congratulations
ATTACH;FMTTYPE=image/png:https://trinitariansindia.org/wp/wp-content/uploads/2022/11/KGQ-congrats-fr-biju-Oct-2022.png
END:VEVENT
END:VCALENDAR