BEGIN:VCALENDAR
VERSION:2.0
PRODID:-//The Trinitarians - India - ECPv5.3.2.1//NONSGML v1.0//EN
CALSCALE:GREGORIAN
METHOD:PUBLISH
X-WR-CALNAME:The Trinitarians - India
X-ORIGINAL-URL:https://trinitariansindia.org/wp
X-WR-CALDESC:Events for The Trinitarians - India
BEGIN:VTIMEZONE
TZID:UTC
BEGIN:STANDARD
TZOFFSETFROM:+0000
TZOFFSETTO:+0000
TZNAME:UTC
DTSTART:20220101T000000
END:STANDARD
END:VTIMEZONE
BEGIN:VEVENT
DTSTART;VALUE=DATE:20220907
DTEND;VALUE=DATE:20220908
DTSTAMP:20260424T011227
CREATED:20221014T054041Z
LAST-MODIFIED:20221014T054041Z
UID:10890-1662508800-1662595199@trinitariansindia.org
SUMMARY:Hearty Welcome
DESCRIPTION:Community greetings were extended to Fr. Rinto Mukkattukavungal\, O.SS.T. conventual of Kasaragod community. He came to our community in preparation for the Vice-Provincial chapter and as a member of planning commission.
URL:https://trinitariansindia.org/wp/event/hearty-welcome-10/
LOCATION:Holy Trinity Ashram – Bengaluru\, Holy Trinity Ashram\, Bengaluru\, karnataka\, 560076\, India
CATEGORIES:Welcome
ATTACH;FMTTYPE=image/png:https://trinitariansindia.org/wp/wp-content/uploads/2022/10/BLR-welcome-Fr.Rinto-Sept2022.png
END:VEVENT
END:VCALENDAR