BEGIN:VCALENDAR
VERSION:2.0
PRODID:-//The Trinitarians - India - ECPv5.3.2.1//NONSGML v1.0//EN
CALSCALE:GREGORIAN
METHOD:PUBLISH
X-WR-CALNAME:The Trinitarians - India
X-ORIGINAL-URL:https://trinitariansindia.org/wp
X-WR-CALDESC:Events for The Trinitarians - India
BEGIN:VTIMEZONE
TZID:UTC
BEGIN:STANDARD
TZOFFSETFROM:+0000
TZOFFSETTO:+0000
TZNAME:UTC
DTSTART:20230101T000000
END:STANDARD
END:VTIMEZONE
BEGIN:VEVENT
DTSTART;VALUE=DATE:20230404
DTEND;VALUE=DATE:20230405
DTSTAMP:20260422T084640
CREATED:20230525T105648Z
LAST-MODIFIED:20230525T105648Z
UID:11729-1680566400-1680652799@trinitariansindia.org
SUMMARY:HEARTY WELCOME
DESCRIPTION:“A beautiful smile is the universal welcome. It can make the day a good day easily.” Sr. Lourdes\, who arrived  to Thrissur on 4th April for being with us for two months was welcomed to the community whole heartedly. She is here to substitute  Sr. Alphonsa\, who has gone to Spain for  General  chapter. The community welcomed Sr. Lourdes with great love and joy.
URL:https://trinitariansindia.org/wp/event/hearty-welcome-11/
LOCATION:Trinitarian Sisters\, Thrissur\, Holy Trinity Convent\, Thrissur\, Kerala\, 680618\, India
CATEGORIES:Welcome
ATTACH;FMTTYPE=image/png:https://trinitariansindia.org/wp/wp-content/uploads/2023/05/SISTERS-welcome-Sr-Lourdes-April2023.png
END:VEVENT
END:VCALENDAR