BEGIN:VCALENDAR
VERSION:2.0
PRODID:-//The Trinitarians - India - ECPv5.3.2.1//NONSGML v1.0//EN
CALSCALE:GREGORIAN
METHOD:PUBLISH
X-WR-CALNAME:The Trinitarians - India
X-ORIGINAL-URL:https://trinitariansindia.org/wp
X-WR-CALDESC:Events for The Trinitarians - India
BEGIN:VTIMEZONE
TZID:UTC
BEGIN:STANDARD
TZOFFSETFROM:+0000
TZOFFSETTO:+0000
TZNAME:UTC
DTSTART:20250101T000000
END:STANDARD
END:VTIMEZONE
BEGIN:VEVENT
DTSTART;VALUE=DATE:20250212
DTEND;VALUE=DATE:20250213
DTSTAMP:20260421T104152
CREATED:20250402T155610Z
LAST-MODIFIED:20250402T155610Z
UID:13826-1739318400-1739404799@trinitariansindia.org
SUMMARY:Hearty welcome Fr. Jebu
DESCRIPTION:On 12th February 2025: The community welcomed Fr. Jebu a friend of Fr. Xavier visited the house and stayed in the community.
URL:https://trinitariansindia.org/wp/event/hearty-welcome-fr-jebu/
LOCATION:Tritva Bhavan\, Assam
CATEGORIES:Welcome
ATTACH;FMTTYPE=image/png:https://trinitariansindia.org/wp/wp-content/uploads/2025/04/ASSAM-welcome-2-Feb.png
END:VEVENT
END:VCALENDAR