BEGIN:VCALENDAR
VERSION:2.0
PRODID:-//The Trinitarians - India - ECPv5.3.2.1//NONSGML v1.0//EN
CALSCALE:GREGORIAN
METHOD:PUBLISH
X-WR-CALNAME:The Trinitarians - India
X-ORIGINAL-URL:https://trinitariansindia.org/wp
X-WR-CALDESC:Events for The Trinitarians - India
BEGIN:VTIMEZONE
TZID:UTC
BEGIN:STANDARD
TZOFFSETFROM:+0000
TZOFFSETTO:+0000
TZNAME:UTC
DTSTART:20220101T000000
END:STANDARD
END:VTIMEZONE
BEGIN:VEVENT
DTSTART;VALUE=DATE:20221019
DTEND;VALUE=DATE:20221020
DTSTAMP:20260422T110357
CREATED:20221108T172141Z
LAST-MODIFIED:20221108T172141Z
UID:11338-1666137600-1666223999@trinitariansindia.org
SUMMARY:Hearty Welcome to Fr. Sunny
DESCRIPTION:Fr. Sunny who belong to the Diocese of Kannur visited the community and celebrated the Eucharist for us.
URL:https://trinitariansindia.org/wp/event/hearty-welcome-to-fr-sunny/
LOCATION:Holy Trinity Ashram\, Kasaragod
CATEGORIES:Welcome
ATTACH;FMTTYPE=image/png:https://trinitariansindia.org/wp/wp-content/uploads/2022/11/KGQ-welcome-Oct-2022.png
END:VEVENT
END:VCALENDAR