BEGIN:VCALENDAR
VERSION:2.0
PRODID:-//The Trinitarians - India - ECPv5.3.2.1//NONSGML v1.0//EN
CALSCALE:GREGORIAN
METHOD:PUBLISH
X-WR-CALNAME:The Trinitarians - India
X-ORIGINAL-URL:https://trinitariansindia.org/wp
X-WR-CALDESC:Events for The Trinitarians - India
BEGIN:VTIMEZONE
TZID:UTC
BEGIN:STANDARD
TZOFFSETFROM:+0000
TZOFFSETTO:+0000
TZNAME:UTC
DTSTART:20190101T000000
END:STANDARD
END:VTIMEZONE
BEGIN:VEVENT
DTSTART;VALUE=DATE:20190513
DTEND;VALUE=DATE:20190517
DTSTAMP:20260422T141013
CREATED:20190614T101509Z
LAST-MODIFIED:20190614T101509Z
UID:6008-1557705600-1558051199@trinitariansindia.org
SUMMARY:HOLY ANGELS' NON-RESIDENTIAL RETREAT
DESCRIPTION:De Matha Spiritual Center\,Trissur\, conducted a  four-days Holy Angels’ retreat.  Fifty boys and girls of classes one to four participated in it.  Along with the Trinitarian friars two groups of sisters namely CMC and SKD Sisters enlightened them on various topics such as love of God\, self esteem\, Faith\, preparation for confession\, inner healing\, Holy Eucharist\, Holy Spirit\, Mother of God\, use of media\,etc. Rev. Frs. PradeepPuthenveetil\, O.SS.T\, Jaison Kulampally\, Sunil Thoppiltharayil\, O.SS.T.\, Diljo\, O.S.S.T.\, Saneesh\, O.S.S.T.\, Rev. Srs. Lissa Alex\, S.K.D\, Mareena Snobi\,CMC\, Rojit\,CMC\, Jismi\,CMC\, were the recourse persons. There was a rosary procession in which they could experience the motherly touch and protection of Our Lady of Good Remedy.  The retreat started with Eucharistic Celebration and ended up with Anointing prayer\, in which the parents of the participants were also present. There was a special session conducted for the parents of the participants.  All participants could experience Jesus as the real savior in their lives.  Also all of them were filled with the fruits and gifts of the Holy Spirit.  Many a miraculous healing and conversion of heart took place. They could make a very good and open confession and sharing\, they expressed their joy and gratitude. The whole program was well appreciated by the participants and their parents.
URL:https://trinitariansindia.org/wp/event/holy-angels-non-residential-retreat/
LOCATION:Holy Trinity Ashram\, Thrissur\, Holy Trinity Ashram\, Thrissur\, Kerala\, 680618\, India
CATEGORIES:Retreat
ATTACH;FMTTYPE=image/png:https://trinitariansindia.org/wp/wp-content/uploads/2019/05/De-Matha-Spiritual-Center-Angels-Retreat-3-May2019.png
END:VEVENT
END:VCALENDAR