BEGIN:VCALENDAR
VERSION:2.0
PRODID:-//The Trinitarians - India - ECPv5.3.2.1//NONSGML v1.0//EN
CALSCALE:GREGORIAN
METHOD:PUBLISH
X-WR-CALNAME:The Trinitarians - India
X-ORIGINAL-URL:https://trinitariansindia.org/wp
X-WR-CALDESC:Events for The Trinitarians - India
BEGIN:VTIMEZONE
TZID:UTC
BEGIN:STANDARD
TZOFFSETFROM:+0000
TZOFFSETTO:+0000
TZNAME:UTC
DTSTART:20240101T000000
END:STANDARD
END:VTIMEZONE
BEGIN:VEVENT
DTSTART;VALUE=DATE:20241026
DTEND;VALUE=DATE:20241027
DTSTAMP:20260421T064530
CREATED:20241113T055419Z
LAST-MODIFIED:20241113T055419Z
UID:13572-1729900800-1729987199@trinitariansindia.org
SUMMARY:Holy Eucharist and the Rosary Procession
DESCRIPTION: The community joined with the parish for the celebration of the Feast of Holy Rosary under the leader ship of Dharshana Sabha. There was the celebration of the Holy Eucharist at 6 PM. Fr. Sunil Thoppiltharayil was the main celebrant and Fr. Diljo delivered a homily. Frs. Antony\, Mathew\, Francis\, and Fr. George Edakalathoor\, the Parish Priest\, concelebrated. There was a Rosary Procession immediately after the Holy Mass and many parishners joined for the procession. It was a procession which proclaimed our unity and our trust in the power of the intercession of Bl. Virgin Mary.
URL:https://trinitariansindia.org/wp/event/holy-eucharist-and-the-rosary-procession/
LOCATION:Holy Trinity Ashram\, Thrissur\, Holy Trinity Ashram\, Thrissur\, Kerala\, 680618\, India
CATEGORIES:Celebration
ATTACH;FMTTYPE=image/png:https://trinitariansindia.org/wp/wp-content/uploads/2024/11/TCR-Rosary-Procession-Oct2024.png
END:VEVENT
END:VCALENDAR