BEGIN:VCALENDAR
VERSION:2.0
PRODID:-//The Trinitarians - India - ECPv5.3.2.1//NONSGML v1.0//EN
CALSCALE:GREGORIAN
METHOD:PUBLISH
X-WR-CALNAME:The Trinitarians - India
X-ORIGINAL-URL:https://trinitariansindia.org/wp
X-WR-CALDESC:Events for The Trinitarians - India
BEGIN:VTIMEZONE
TZID:UTC
BEGIN:STANDARD
TZOFFSETFROM:+0000
TZOFFSETTO:+0000
TZNAME:UTC
DTSTART:20190101T000000
END:STANDARD
END:VTIMEZONE
BEGIN:VEVENT
DTSTART;VALUE=DATE:20190418
DTEND;VALUE=DATE:20190419
DTSTAMP:20260423T164403
CREATED:20190430T061328Z
LAST-MODIFIED:20190430T061423Z
UID:5938-1555545600-1555631999@trinitariansindia.org
SUMMARY:Holy Week Services
DESCRIPTION:Community joined with St. Joseph Church\, Kasaragod for the Holy Week services. The Maundy Thursday was dedicated as a day of prayer to pray for priests and concluded at 7 p.m. with washing of feet and breaking of bread. Fr. Binoj led the prayer service and Fr. Saji broke the bread.
URL:https://trinitariansindia.org/wp/event/holy-week-services/
LOCATION:Holy Trinity Ashram\, Kasaragod
CATEGORIES:Celebration
ATTACH;FMTTYPE=image/png:https://trinitariansindia.org/wp/wp-content/uploads/2019/04/KGQ-breaking-of-bread2-April-2019.png
END:VEVENT
END:VCALENDAR