BEGIN:VCALENDAR
VERSION:2.0
PRODID:-//The Trinitarians - India - ECPv5.3.2.1//NONSGML v1.0//EN
CALSCALE:GREGORIAN
METHOD:PUBLISH
X-WR-CALNAME:The Trinitarians - India
X-ORIGINAL-URL:https://trinitariansindia.org/wp
X-WR-CALDESC:Events for The Trinitarians - India
BEGIN:VTIMEZONE
TZID:UTC
BEGIN:STANDARD
TZOFFSETFROM:+0000
TZOFFSETTO:+0000
TZNAME:UTC
DTSTART:20180101T000000
END:STANDARD
END:VTIMEZONE
BEGIN:VEVENT
DTSTART;VALUE=DATE:20180210
DTEND;VALUE=DATE:20180211
DTSTAMP:20260422T113723
CREATED:20180310T100449Z
LAST-MODIFIED:20180311T065149Z
UID:3953-1518220800-1518307199@trinitariansindia.org
SUMMARY:Home Day and the Performance Day
DESCRIPTION:The community concluded the Home Day program along with performance day. Brothers performed their talents on the stage in different musical instruments.
URL:https://trinitariansindia.org/wp/event/home-day-and-the-performance-day/
LOCATION:Holy Trinity Ashram\, Thrissur\, Holy Trinity Ashram\, Thrissur\, Kerala\, 680618\, India
CATEGORIES:Celebration
ATTACH;FMTTYPE=image/png:https://trinitariansindia.org/wp/wp-content/uploads/2018/03/Tcr-ash-home-day-Feb2018.png
END:VEVENT
END:VCALENDAR