BEGIN:VCALENDAR
VERSION:2.0
PRODID:-//The Trinitarians - India - ECPv5.3.2.1//NONSGML v1.0//EN
CALSCALE:GREGORIAN
METHOD:PUBLISH
X-WR-CALNAME:The Trinitarians - India
X-ORIGINAL-URL:https://trinitariansindia.org/wp
X-WR-CALDESC:Events for The Trinitarians - India
BEGIN:VTIMEZONE
TZID:UTC
BEGIN:STANDARD
TZOFFSETFROM:+0000
TZOFFSETTO:+0000
TZNAME:UTC
DTSTART:20180101T000000
END:STANDARD
END:VTIMEZONE
BEGIN:VEVENT
DTSTART;VALUE=DATE:20180210
DTEND;VALUE=DATE:20180211
DTSTAMP:20260422T112922
CREATED:20180310T100717Z
LAST-MODIFIED:20180311T065348Z
UID:3954-1518220800-1518307199@trinitariansindia.org
SUMMARY:Honouring the Music Teachers
DESCRIPTION:The community honored the music teachers for their commitment to our students by teaching them in different instruments. They were felicitated and given gifts and adorned with the shall (ponnaada).
URL:https://trinitariansindia.org/wp/event/honouring-the-music-teachers/
LOCATION:Holy Trinity Ashram\, Thrissur\, Holy Trinity Ashram\, Thrissur\, Kerala\, 680618\, India
CATEGORIES:Celebration
ATTACH;FMTTYPE=image/png:https://trinitariansindia.org/wp/wp-content/uploads/2018/03/Tcr-ash-honoring-music-teacher-Feb2018.png
END:VEVENT
END:VCALENDAR