BEGIN:VCALENDAR
VERSION:2.0
PRODID:-//The Trinitarians - India - ECPv5.3.2.1//NONSGML v1.0//EN
CALSCALE:GREGORIAN
METHOD:PUBLISH
X-WR-CALNAME:The Trinitarians - India
X-ORIGINAL-URL:https://trinitariansindia.org/wp
X-WR-CALDESC:Events for The Trinitarians - India
BEGIN:VTIMEZONE
TZID:UTC
BEGIN:STANDARD
TZOFFSETFROM:+0000
TZOFFSETTO:+0000
TZNAME:UTC
DTSTART:20220101T000000
END:STANDARD
END:VTIMEZONE
BEGIN:VEVENT
DTSTART;VALUE=DATE:20220903
DTEND;VALUE=DATE:20220904
DTSTAMP:20260424T042146
CREATED:20221015T054654Z
LAST-MODIFIED:20221015T054654Z
UID:10981-1662163200-1662249599@trinitariansindia.org
SUMMARY:Inauguration of LCA 2022-2023
DESCRIPTION:The Community had the inauguration of LCA 2022-2023. Fr. Mathew handed over the LCA torch to the group captains and they made a run around the campus with the torch. Thereafter\, Fr. Mathew lighted the fire with the torch and inaugurated the LCA of the academic year 2022-2023. Fr. Saneesh explained about the importance of LCA in the curriculum and formation and how it’s being conducted. This year\, we have two teams; Trinitarians Valiants and Mary’s Angels. All the best brothers!
URL:https://trinitariansindia.org/wp/event/inauguration-of-lca-2022-2023/
LOCATION:Holy Trinity Ashram\, Thrissur\, Holy Trinity Ashram\, Thrissur\, Kerala\, 680618\, India
CATEGORIES:Inauguration
ATTACH;FMTTYPE=image/png:https://trinitariansindia.org/wp/wp-content/uploads/2022/10/TCR-LCA-inaguration-Sept2022.png
END:VEVENT
END:VCALENDAR