BEGIN:VCALENDAR
VERSION:2.0
PRODID:-//The Trinitarians - India - ECPv5.3.2.1//NONSGML v1.0//EN
CALSCALE:GREGORIAN
METHOD:PUBLISH
X-WR-CALNAME:The Trinitarians - India
X-ORIGINAL-URL:https://trinitariansindia.org/wp
X-WR-CALDESC:Events for The Trinitarians - India
BEGIN:VTIMEZONE
TZID:UTC
BEGIN:STANDARD
TZOFFSETFROM:+0000
TZOFFSETTO:+0000
TZNAME:UTC
DTSTART:20220101T000000
END:STANDARD
END:VTIMEZONE
BEGIN:VEVENT
DTSTART;VALUE=DATE:20220815
DTEND;VALUE=DATE:20220816
DTSTAMP:20260425T041006
CREATED:20220910T021902Z
LAST-MODIFIED:20220910T021902Z
UID:10758-1660521600-1660607999@trinitariansindia.org
SUMMARY:Independence Day
DESCRIPTION:Community celebrated the 75th Independence Day together with sisters from Holy Cross. Fr. Joseph Muthuplackal O.SS.T celebrated the Eucharist and hoisted the flag there after. Br. Adman gave a beautiful Independence Day message. It was a joyous day with a lot of joy and delight.
URL:https://trinitariansindia.org/wp/event/independence-day-2/
LOCATION:Holy Trinity Ashram – Bengaluru\, Holy Trinity Ashram\, Bengaluru\, karnataka\, 560076\, India
CATEGORIES:Celebration
ATTACH;FMTTYPE=image/png:https://trinitariansindia.org/wp/wp-content/uploads/2022/09/BLR-Independece-day-Aug2022.png
END:VEVENT
END:VCALENDAR