BEGIN:VCALENDAR
VERSION:2.0
PRODID:-//The Trinitarians - India - ECPv5.3.2.1//NONSGML v1.0//EN
CALSCALE:GREGORIAN
METHOD:PUBLISH
X-WR-CALNAME:The Trinitarians - India
X-ORIGINAL-URL:https://trinitariansindia.org/wp
X-WR-CALDESC:Events for The Trinitarians - India
BEGIN:VTIMEZONE
TZID:UTC
BEGIN:STANDARD
TZOFFSETFROM:+0000
TZOFFSETTO:+0000
TZNAME:UTC
DTSTART:20190101T000000
END:STANDARD
END:VTIMEZONE
BEGIN:VEVENT
DTSTART;VALUE=DATE:20190410
DTEND;VALUE=DATE:20190411
DTSTAMP:20260424T013051
CREATED:20190503T171256Z
LAST-MODIFIED:20190503T171256Z
UID:5965-1554854400-1554940799@trinitariansindia.org
SUMMARY:Inter-parish retreat for the youth
DESCRIPTION:An inter-parish retreat was arranged for the youth of two parishes and was conducted in Campomaggiore. Presided over by Fr. Jolly and the talk was given by Fr. Simine. The theme was the Seed and the Sower. It was well participated.
URL:https://trinitariansindia.org/wp/event/inter-parish-retreat-for-the-youth/
LOCATION:Rome
CATEGORIES:Retreat
ATTACH;FMTTYPE=image/png:https://trinitariansindia.org/wp/wp-content/uploads/2019/05/ITALY-youth-retreat-April-2019.png
END:VEVENT
END:VCALENDAR