BEGIN:VCALENDAR
VERSION:2.0
PRODID:-//The Trinitarians - India - ECPv5.3.2.1//NONSGML v1.0//EN
CALSCALE:GREGORIAN
METHOD:PUBLISH
X-WR-CALNAME:The Trinitarians - India
X-ORIGINAL-URL:https://trinitariansindia.org/wp
X-WR-CALDESC:Events for The Trinitarians - India
BEGIN:VTIMEZONE
TZID:UTC
BEGIN:STANDARD
TZOFFSETFROM:+0000
TZOFFSETTO:+0000
TZNAME:UTC
DTSTART:20230101T000000
END:STANDARD
END:VTIMEZONE
BEGIN:VEVENT
DTSTART;VALUE=DATE:20230719
DTEND;VALUE=DATE:20230720
DTSTAMP:20260424T175003
CREATED:20230802T101744Z
LAST-MODIFIED:20230802T101744Z
UID:12121-1689724800-1689811199@trinitariansindia.org
SUMMARY:Interaction and Sharing with Bishop Aldo
DESCRIPTION:The community conducted an interaction hour with Bishop Aldo Berardi. Bishop shared his experience as being a formation in charge of brothers in the Order in the General level.  Also\, he shared his experiences working in missions in the Middle East. He shared his views on spreading the Charism of the Order all over the world through our works\, living a Trinitarian life\, etc.
URL:https://trinitariansindia.org/wp/event/interaction-and-sharing-with-bishop-aldo/
LOCATION:Holy Trinity Ashram – Bengaluru\, Holy Trinity Ashram\, Bengaluru\, karnataka\, 560076\, India
CATEGORIES:Gathering
ATTACH;FMTTYPE=image/png:https://trinitariansindia.org/wp/wp-content/uploads/2023/08/BLR-Interaction-with-Bp-Aldo-July2023.png
END:VEVENT
END:VCALENDAR