BEGIN:VCALENDAR
VERSION:2.0
PRODID:-//The Trinitarians - India - ECPv5.3.2.1//NONSGML v1.0//EN
CALSCALE:GREGORIAN
METHOD:PUBLISH
X-WR-CALNAME:The Trinitarians - India
X-ORIGINAL-URL:https://trinitariansindia.org/wp
X-WR-CALDESC:Events for The Trinitarians - India
BEGIN:VTIMEZONE
TZID:UTC
BEGIN:STANDARD
TZOFFSETFROM:+0000
TZOFFSETTO:+0000
TZNAME:UTC
DTSTART:20230101T000000
END:STANDARD
END:VTIMEZONE
BEGIN:VEVENT
DTSTART;VALUE=DATE:20231021
DTEND;VALUE=DATE:20231025
DTSTAMP:20260421T184510
CREATED:20231112T053008Z
LAST-MODIFIED:20231112T053008Z
UID:12571-1697846400-1698191999@trinitariansindia.org
SUMMARY:JaGo 2023 Conference
DESCRIPTION:The Community took part in the Jesus Youth National Youth Conference called “JAGO 2023”. The Conference was a very good experience for the brothers and they explored the Conference well.
URL:https://trinitariansindia.org/wp/event/jago-2023-conference/
LOCATION:Holy Trinity Ashram – Bengaluru\, Holy Trinity Ashram\, Bengaluru\, karnataka\, 560076\, India
CATEGORIES:Celebration
ATTACH;FMTTYPE=image/png:https://trinitariansindia.org/wp/wp-content/uploads/2023/11/BLR-JaGo-Oct2023.png
END:VEVENT
END:VCALENDAR