BEGIN:VCALENDAR
VERSION:2.0
PRODID:-//The Trinitarians - India - ECPv5.3.2.1//NONSGML v1.0//EN
CALSCALE:GREGORIAN
METHOD:PUBLISH
X-WR-CALNAME:The Trinitarians - India
X-ORIGINAL-URL:https://trinitariansindia.org/wp
X-WR-CALDESC:Events for The Trinitarians - India
BEGIN:VTIMEZONE
TZID:UTC
BEGIN:STANDARD
TZOFFSETFROM:+0000
TZOFFSETTO:+0000
TZNAME:UTC
DTSTART:20190101T000000
END:STANDARD
END:VTIMEZONE
BEGIN:VEVENT
DTSTART;VALUE=DATE:20190316
DTEND;VALUE=DATE:20190317
DTSTAMP:20260424T023322
CREATED:20190411T170509Z
LAST-MODIFIED:20190411T170509Z
UID:5831-1552694400-1552780799@trinitariansindia.org
SUMMARY:Lenten Retreat for Third Order Members
DESCRIPTION:As part of lent\, the Third Order Members organized an evening retreat. The day was animated by Rev. Fr. Nidhin\, Mcbs. It began at 4.30 pm and ended at 8.30. There were a good number of people from the neighbouring parishes.
URL:https://trinitariansindia.org/wp/event/lenten-retreat-for-third-order-members/
LOCATION:Holy Trinity Ashram – Bengaluru\, Holy Trinity Ashram\, Bengaluru\, karnataka\, 560076\, India
CATEGORIES:Retreat,Third Order
ATTACH;FMTTYPE=image/png:https://trinitariansindia.org/wp/wp-content/uploads/2019/04/KGQ-Third-Order-retreat-March-2019.png
END:VEVENT
END:VCALENDAR