BEGIN:VCALENDAR
VERSION:2.0
PRODID:-//The Trinitarians - India - ECPv5.3.2.1//NONSGML v1.0//EN
CALSCALE:GREGORIAN
METHOD:PUBLISH
X-WR-CALNAME:The Trinitarians - India
X-ORIGINAL-URL:https://trinitariansindia.org/wp
X-WR-CALDESC:Events for The Trinitarians - India
BEGIN:VTIMEZONE
TZID:UTC
BEGIN:STANDARD
TZOFFSETFROM:+0000
TZOFFSETTO:+0000
TZNAME:UTC
DTSTART:20190101T000000
END:STANDARD
END:VTIMEZONE
BEGIN:VEVENT
DTSTART;VALUE=DATE:20190312
DTEND;VALUE=DATE:20190313
DTSTAMP:20260423T230311
CREATED:20190414T092726Z
LAST-MODIFIED:20190414T092726Z
UID:5863-1552348800-1552435199@trinitariansindia.org
SUMMARY:Lenten Special @ Lingurkatta
DESCRIPTION:The Lingurkatta Mass Center people had Holy Mass and confession animated by Fr. Francis SDB.  Fr. Jojo\, the Parish Priest and Fr. Meby helped out for the services.
URL:https://trinitariansindia.org/wp/event/lenten-special-lingurkatta/
LOCATION:Tritva Bhavan\, Assam
CATEGORIES:Animation
ATTACH;FMTTYPE=image/png:https://trinitariansindia.org/wp/wp-content/uploads/2019/04/ASSAM-retreat-March-2019.png
END:VEVENT
END:VCALENDAR