BEGIN:VCALENDAR
VERSION:2.0
PRODID:-//The Trinitarians - India - ECPv5.3.2.1//NONSGML v1.0//EN
CALSCALE:GREGORIAN
METHOD:PUBLISH
X-WR-CALNAME:The Trinitarians - India
X-ORIGINAL-URL:https://trinitariansindia.org/wp
X-WR-CALDESC:Events for The Trinitarians - India
BEGIN:VTIMEZONE
TZID:UTC
BEGIN:STANDARD
TZOFFSETFROM:+0000
TZOFFSETTO:+0000
TZNAME:UTC
DTSTART:20190101T000000
END:STANDARD
END:VTIMEZONE
BEGIN:VEVENT
DTSTART;VALUE=DATE:20190216
DTEND;VALUE=DATE:20190217
DTSTAMP:20260420T222800
CREATED:20190306T165536Z
LAST-MODIFIED:20190306T165536Z
UID:5741-1550275200-1550361599@trinitariansindia.org
SUMMARY:Match with St. Mary’s Minor seminary
DESCRIPTION: Community had friendly Volley ball match with St. Mary’s Minor seminary\, Thrissur. Our brothers played wonderfully well and won the match. Fr. Dominic\, Rector of the minor seminary congratulated our brothers and appreciated their talent.
URL:https://trinitariansindia.org/wp/event/match-with-st-marys-minor-seminary/
LOCATION:Holy Trinity Ashram\, Thrissur\, Holy Trinity Ashram\, Thrissur\, Kerala\, 680618\, India
CATEGORIES:Sports
ATTACH;FMTTYPE=image/png:https://trinitariansindia.org/wp/wp-content/uploads/2019/03/TCR-volleyball-match-Feb2019.png
END:VEVENT
END:VCALENDAR