BEGIN:VCALENDAR
VERSION:2.0
PRODID:-//The Trinitarians - India - ECPv5.3.2.1//NONSGML v1.0//EN
CALSCALE:GREGORIAN
METHOD:PUBLISH
X-WR-CALNAME:The Trinitarians - India
X-ORIGINAL-URL:https://trinitariansindia.org/wp
X-WR-CALDESC:Events for The Trinitarians - India
BEGIN:VTIMEZONE
TZID:UTC
BEGIN:STANDARD
TZOFFSETFROM:+0000
TZOFFSETTO:+0000
TZNAME:UTC
DTSTART:20190101T000000
END:STANDARD
END:VTIMEZONE
BEGIN:VEVENT
DTSTART;VALUE=DATE:20190418
DTEND;VALUE=DATE:20190419
DTSTAMP:20260423T152152
CREATED:20190503T172518Z
LAST-MODIFIED:20190503T172518Z
UID:5976-1555545600-1555631999@trinitariansindia.org
SUMMARY:Maundy Thursday Celebrations
DESCRIPTION:Community celebrated the remembrance of last supper and had the breaking of the unleavened bread. Whole community gathered together and shared the prayerful wishes and prepared itself for the Holy Truidum.  The community joined for liturgical celebrations in the parish.
URL:https://trinitariansindia.org/wp/event/maundy-thursday-celebrations/
LOCATION:Holy Trinity Ashram – Bengaluru\, Holy Trinity Ashram\, Bengaluru\, karnataka\, 560076\, India
CATEGORIES:Celebration,Feast
ATTACH;FMTTYPE=image/png:https://trinitariansindia.org/wp/wp-content/uploads/2019/05/BLR-maundy-thrusday-April-2019.png
END:VEVENT
END:VCALENDAR