BEGIN:VCALENDAR
VERSION:2.0
PRODID:-//The Trinitarians - India - ECPv5.3.2.1//NONSGML v1.0//EN
CALSCALE:GREGORIAN
METHOD:PUBLISH
X-WR-CALNAME:The Trinitarians - India
X-ORIGINAL-URL:https://trinitariansindia.org/wp
X-WR-CALDESC:Events for The Trinitarians - India
BEGIN:VTIMEZONE
TZID:UTC
BEGIN:STANDARD
TZOFFSETFROM:+0000
TZOFFSETTO:+0000
TZNAME:UTC
DTSTART:20220101T000000
END:STANDARD
END:VTIMEZONE
BEGIN:VEVENT
DTSTART;VALUE=DATE:20221001
DTEND;VALUE=DATE:20221006
DTSTAMP:20260421T133538
CREATED:20221023T095525Z
LAST-MODIFIED:20221023T152119Z
UID:11109-1664582400-1665014399@trinitariansindia.org
SUMMARY:Memorable Moments of Chapter
DESCRIPTION:The photographer captured some memorable moments of the Chapter.
URL:https://trinitariansindia.org/wp/event/memorable-moments-of-chapter/
CATEGORIES:VP Chapter
ATTACH;FMTTYPE=image/png:https://trinitariansindia.org/wp/wp-content/uploads/2022/10/VP-Chapter-Frs-Pradeep-and-Joseph-Oct2022.png
END:VEVENT
END:VCALENDAR