BEGIN:VCALENDAR
VERSION:2.0
PRODID:-//The Trinitarians - India - ECPv5.3.2.1//NONSGML v1.0//EN
CALSCALE:GREGORIAN
METHOD:PUBLISH
X-WR-CALNAME:The Trinitarians - India
X-ORIGINAL-URL:https://trinitariansindia.org/wp
X-WR-CALDESC:Events for The Trinitarians - India
BEGIN:VTIMEZONE
TZID:UTC
BEGIN:STANDARD
TZOFFSETFROM:+0000
TZOFFSETTO:+0000
TZNAME:UTC
DTSTART:20200101T000000
END:STANDARD
END:VTIMEZONE
BEGIN:VEVENT
DTSTART;VALUE=DATE:20201018
DTEND;VALUE=DATE:20201019
DTSTAMP:20260425T005545
CREATED:20201107T093755Z
LAST-MODIFIED:20201107T093755Z
UID:8073-1602979200-1603065599@trinitariansindia.org
SUMMARY:Mission Sunday
DESCRIPTION:The Bangalore community celebrated the World mission Sunday on 18th.  The celebration began by the Holy Eucharist celebrated by Rev. Fr. Janil Chakkiath O.SS.T.  The community specially dedicated this day for the missionaries and prayed for them. The committee scheduled different programs like games\, food festival at evening and collected money and decided to deposit for the mission work.
URL:https://trinitariansindia.org/wp/event/mission-sunday/
LOCATION:Holy Trinity Ashram – Bengaluru\, Holy Trinity Ashram\, Bengaluru\, karnataka\, 560076\, India
CATEGORIES:Celebration
ATTACH;FMTTYPE=image/png:https://trinitariansindia.org/wp/wp-content/uploads/2020/11/BLR-Mission-Sunday-Oct2020.png
END:VEVENT
END:VCALENDAR