BEGIN:VCALENDAR
VERSION:2.0
PRODID:-//The Trinitarians - India - ECPv5.3.2.1//NONSGML v1.0//EN
CALSCALE:GREGORIAN
METHOD:PUBLISH
X-WR-CALNAME:The Trinitarians - India
X-ORIGINAL-URL:https://trinitariansindia.org/wp
X-WR-CALDESC:Events for The Trinitarians - India
BEGIN:VTIMEZONE
TZID:UTC
BEGIN:STANDARD
TZOFFSETFROM:+0000
TZOFFSETTO:+0000
TZNAME:UTC
DTSTART:20220101T000000
END:STANDARD
END:VTIMEZONE
BEGIN:VEVENT
DTSTART;VALUE=DATE:20221030
DTEND;VALUE=DATE:20221031
DTSTAMP:20260421T195452
CREATED:20221105T103043Z
LAST-MODIFIED:20221105T103043Z
UID:11288-1667088000-1667174399@trinitariansindia.org
SUMMARY:Month of Rosary
DESCRIPTION:The month of Rosary was celebrated prayerfully in the community. The daily rosaries were said by procession\, moving inside the house. The statue of mother Mary was decorated weekly. On the last day of the month\, as conclusion to the month of rosary\, the statue was taken out of the house and said the solemn rosary.
URL:https://trinitariansindia.org/wp/event/month-of-rosary-3/
LOCATION:Trinitarian Sisters\, Thrissur\, Holy Trinity Convent\, Thrissur\, Kerala\, 680618\, India
CATEGORIES:Celebration
ATTACH;FMTTYPE=image/png:https://trinitariansindia.org/wp/wp-content/uploads/2022/11/SISTERS-feast-of-Good-Remedy-Oct-2022.png
END:VEVENT
END:VCALENDAR