BEGIN:VCALENDAR
VERSION:2.0
PRODID:-//The Trinitarians - India - ECPv5.3.2.1//NONSGML v1.0//EN
CALSCALE:GREGORIAN
METHOD:PUBLISH
X-WR-CALNAME:The Trinitarians - India
X-ORIGINAL-URL:https://trinitariansindia.org/wp
X-WR-CALDESC:Events for The Trinitarians - India
BEGIN:VTIMEZONE
TZID:UTC
BEGIN:STANDARD
TZOFFSETFROM:+0000
TZOFFSETTO:+0000
TZNAME:UTC
DTSTART:20220101T000000
END:STANDARD
END:VTIMEZONE
BEGIN:VEVENT
DTSTART;VALUE=DATE:20220909
DTEND;VALUE=DATE:20220910
DTSTAMP:20260423T131412
CREATED:20221014T170730Z
LAST-MODIFIED:20221014T170730Z
UID:10926-1662681600-1662767999@trinitariansindia.org
SUMMARY:Onam Celebrations
DESCRIPTION:Onam Celebration in the Community. Community had a wonderful Onam Celebration along with Kollangana parish priest\, the staff and neighboring families. Community also had delicious lunch and Onam games in the afternoon.
URL:https://trinitariansindia.org/wp/event/onam-celebrations-12/
CATEGORIES:Celebration
ATTACH;FMTTYPE=image/png:https://trinitariansindia.org/wp/wp-content/uploads/2022/10/KGQ-happy-Onam-Sept2022.png
END:VEVENT
END:VCALENDAR