BEGIN:VCALENDAR
VERSION:2.0
PRODID:-//The Trinitarians - India - ECPv5.3.2.1//NONSGML v1.0//EN
CALSCALE:GREGORIAN
METHOD:PUBLISH
X-WR-CALNAME:The Trinitarians - India
X-ORIGINAL-URL:https://trinitariansindia.org/wp
X-WR-CALDESC:Events for The Trinitarians - India
BEGIN:VTIMEZONE
TZID:UTC
BEGIN:STANDARD
TZOFFSETFROM:+0000
TZOFFSETTO:+0000
TZNAME:UTC
DTSTART:20210101T000000
END:STANDARD
END:VTIMEZONE
BEGIN:VEVENT
DTSTART;VALUE=DATE:20210210
DTEND;VALUE=DATE:20210211
DTSTAMP:20260423T230455
CREATED:20210317T045502Z
LAST-MODIFIED:20210317T045502Z
UID:8697-1612915200-1613001599@trinitariansindia.org
SUMMARY:One-day Picnic
DESCRIPTION:After almost one year in which the community had not been able to enjoy leisure time outside the convent\, we were finally able to do so by visiting a Bird Sanctuary\, as well as a very enjoyable afternoon on the beach.  Community ties are strengthened not only on a day-to-day basis but also in moments where\, in a relaxed way\, the community shares and enjoys with the nature. In the morning\, after finishing breakfast and preparing everything for the outing\, we went to the Bird Sanctuary\, where we spent a very pleasant time getting to know the place and the different animals that were there.  We ate right there and immediately went to the beach. The sea\, breathing pure air\, the contact with the nature definitely enriched our souls and renewed our energies. \nDespués de casi un año en el que la comunidad no había podido disfrutar de momentos de ocio fuera de casa\, por fin\, pudimos hacerlo visitando un Santuario de pájaros\, así como una tarde muy amena en la playa.  Los lazo comunitarios se fortalecen no solo en el día a día sino también en los momentos donde\, de forma distendida\, la comunidad comparte y disfruta de la naturaleza.  Por la mañana\, tras acabar el desayuno y prepararlo todo  para la excursión\, nos dirigimos al Santuario de Pájaros\, donde pasamos un rato muy ameno conociendo el lugar y los diferentes animales que allí había. Comimos allí mismo e inmediatamente nos fuimos a la playa. El mar\, el respirar aire puro\, el contacto con la naturaleza… definitivamente enriqueció nuestras almas y renovó nuestras energías.
URL:https://trinitariansindia.org/wp/event/one-day-picnic-8/
LOCATION:Trinitarian Sisters\, Thrissur\, Holy Trinity Convent\, Thrissur\, Kerala\, 680618\, India
CATEGORIES:Picnic/Tour
ATTACH;FMTTYPE=image/png:https://trinitariansindia.org/wp/wp-content/uploads/2021/03/SISTERS-picnic-Feb2021.png
END:VEVENT
END:VCALENDAR