BEGIN:VCALENDAR
VERSION:2.0
PRODID:-//The Trinitarians - India - ECPv5.3.2.1//NONSGML v1.0//EN
CALSCALE:GREGORIAN
METHOD:PUBLISH
X-WR-CALNAME:The Trinitarians - India
X-ORIGINAL-URL:https://trinitariansindia.org/wp
X-WR-CALDESC:Events for The Trinitarians - India
BEGIN:VTIMEZONE
TZID:UTC
BEGIN:STANDARD
TZOFFSETFROM:+0000
TZOFFSETTO:+0000
TZNAME:UTC
DTSTART:20230101T000000
END:STANDARD
END:VTIMEZONE
BEGIN:VEVENT
DTSTART;VALUE=DATE:20230723
DTEND;VALUE=DATE:20230724
DTSTAMP:20260424T112531
CREATED:20230802T101025Z
LAST-MODIFIED:20230802T101025Z
UID:12117-1690070400-1690156799@trinitariansindia.org
SUMMARY:One-day Retreat for Third Order Members
DESCRIPTION:The Community Conducted a one-day Retreat for the Third Order Members. Frs. Mathew and Bitaju animated the retreat for them and Fr. Pradeep celebrated the Holy Mass.
URL:https://trinitariansindia.org/wp/event/one-day-retreat-for-third-order-members/
LOCATION:Holy Trinity Ashram – Bengaluru\, Holy Trinity Ashram\, Bengaluru\, karnataka\, 560076\, India
CATEGORIES:Retreat,Third Order
ATTACH;FMTTYPE=image/png:https://trinitariansindia.org/wp/wp-content/uploads/2023/08/BLR-Retreat-for-Third-Order-July2023.png
END:VEVENT
END:VCALENDAR