BEGIN:VCALENDAR
VERSION:2.0
PRODID:-//The Trinitarians - India - ECPv5.3.2.1//NONSGML v1.0//EN
CALSCALE:GREGORIAN
METHOD:PUBLISH
X-WR-CALNAME:The Trinitarians - India
X-ORIGINAL-URL:https://trinitariansindia.org/wp
X-WR-CALDESC:Events for The Trinitarians - India
BEGIN:VTIMEZONE
TZID:UTC
BEGIN:STANDARD
TZOFFSETFROM:+0000
TZOFFSETTO:+0000
TZNAME:UTC
DTSTART:20200101T000000
END:STANDARD
END:VTIMEZONE
BEGIN:VEVENT
DTSTART;VALUE=DATE:20201025
DTEND;VALUE=DATE:20201026
DTSTAMP:20260425T215919
CREATED:20201107T093256Z
LAST-MODIFIED:20201107T093256Z
UID:8063-1603584000-1603670399@trinitariansindia.org
SUMMARY:Ordination Anniversary - Fr. Binoj
DESCRIPTION:The Bangalore community celebrated the Ordination anniversary of Rev. Fr. Binoj Puthenpurakkal O.SS. T. The celebration hosted by Fr. Binoj by celebrating the Holy Eucharist. Brothers spelled the good things that he has done for the Order and for the community and prayed for him on this special day. We celebrated the day by wishing and cutting of cake after the Mass. Fr.  Joseph\, the Vice Provincial\, wished him by giving a bouquet. In the evening brothers organized a short programme and Bro. Sobaram felicitated him. The community wished him all the best for the upcoming ministry that he will be taking up soon.
URL:https://trinitariansindia.org/wp/event/ordination-anniversary-fr-binoj/
LOCATION:Holy Trinity Ashram – Bengaluru\, Holy Trinity Ashram\, Bengaluru\, karnataka\, 560076\, India
CATEGORIES:Anniversary
ATTACH;FMTTYPE=image/png:https://trinitariansindia.org/wp/wp-content/uploads/2020/11/BLR-Ordi-anniversary-Oct2020.png
END:VEVENT
END:VCALENDAR