BEGIN:VCALENDAR
VERSION:2.0
PRODID:-//The Trinitarians - India - ECPv5.3.2.1//NONSGML v1.0//EN
CALSCALE:GREGORIAN
METHOD:PUBLISH
X-WR-CALNAME:The Trinitarians - India
X-ORIGINAL-URL:https://trinitariansindia.org/wp
X-WR-CALDESC:Events for The Trinitarians - India
BEGIN:VTIMEZONE
TZID:UTC
BEGIN:STANDARD
TZOFFSETFROM:+0000
TZOFFSETTO:+0000
TZNAME:UTC
DTSTART:20200101T000000
END:STANDARD
END:VTIMEZONE
BEGIN:VEVENT
DTSTART;VALUE=DATE:20201027
DTEND;VALUE=DATE:20201028
DTSTAMP:20260426T031530
CREATED:20201110T164229Z
LAST-MODIFIED:20201110T164229Z
UID:8132-1603756800-1603843199@trinitariansindia.org
SUMMARY:Ordination Anniversary of Fr. Xavier Kachappilly
DESCRIPTION:Community celebrated the 12th ordination anniversary of Fr. Xavier Kachappilly.  We wished and prayed for him\, community had special outing on that day.
URL:https://trinitariansindia.org/wp/event/ordination-anniversary-of-fr-xavier-kachappilly/
LOCATION:Tritva Bhavan\, Assam
CATEGORIES:Anniversary
ATTACH;FMTTYPE=image/png:https://trinitariansindia.org/wp/wp-content/uploads/2020/11/ASSAM-happy-birthday-frXavier-Oct2020.png
END:VEVENT
END:VCALENDAR