BEGIN:VCALENDAR
VERSION:2.0
PRODID:-//The Trinitarians - India - ECPv5.3.2.1//NONSGML v1.0//EN
CALSCALE:GREGORIAN
METHOD:PUBLISH
X-WR-CALNAME:The Trinitarians - India
X-ORIGINAL-URL:https://trinitariansindia.org/wp
X-WR-CALDESC:Events for The Trinitarians - India
BEGIN:VTIMEZONE
TZID:UTC
BEGIN:STANDARD
TZOFFSETFROM:+0000
TZOFFSETTO:+0000
TZNAME:UTC
DTSTART:20160101T000000
END:STANDARD
END:VTIMEZONE
BEGIN:VEVENT
DTSTART;VALUE=DATE:20161027
DTEND;VALUE=DATE:20161028
DTSTAMP:20260422T145737
CREATED:20161123T130815Z
LAST-MODIFIED:20161123T130815Z
UID:1864-1477526400-1477612799@trinitariansindia.org
SUMMARY:Ordination Anniversary or Fr. Xavier
DESCRIPTION:Community celebrated the ordination anniversary of Fr. Xavier.
URL:https://trinitariansindia.org/wp/event/ordination-anniversary-or-fr-xavier/
LOCATION:Holy Trinity Ashram\, Thrissur\, Holy Trinity Ashram\, Thrissur\, Kerala\, 680618\, India
CATEGORIES:Anniversary
ATTACH;FMTTYPE=image/png:https://trinitariansindia.org/wp/wp-content/uploads/2016/10/Fr-Xavier-Ordination-Anniversary.png
END:VEVENT
END:VCALENDAR