BEGIN:VCALENDAR
VERSION:2.0
PRODID:-//The Trinitarians - India - ECPv5.3.2.1//NONSGML v1.0//EN
CALSCALE:GREGORIAN
METHOD:PUBLISH
X-WR-CALNAME:The Trinitarians - India
X-ORIGINAL-URL:https://trinitariansindia.org/wp
X-WR-CALDESC:Events for The Trinitarians - India
BEGIN:VTIMEZONE
TZID:UTC
BEGIN:STANDARD
TZOFFSETFROM:+0000
TZOFFSETTO:+0000
TZNAME:UTC
DTSTART:20180101T000000
END:STANDARD
END:VTIMEZONE
BEGIN:VEVENT
DTSTART;VALUE=DATE:20180127
DTEND;VALUE=DATE:20180128
DTSTAMP:20260422T010550
CREATED:20180209T164301Z
LAST-MODIFIED:20180209T164632Z
UID:3883-1517011200-1517097599@trinitariansindia.org
SUMMARY:Orientation Program for Teachers
DESCRIPTION:The orientation class for the teaching staff of St. Xavier’s High School\, Tamulpur  was animated by Fr. Joseph Ollickal\, the administrator of Guwahati archdiocese.  This was followed by a meeting of the staff with Fr. Jojo\, the principal.
URL:https://trinitariansindia.org/wp/event/orientation-program-for-teachers/
LOCATION:Tritva Bhavan\, Assam
CATEGORIES:Meeting
ATTACH;FMTTYPE=image/png:https://trinitariansindia.org/wp/wp-content/uploads/2018/02/Assam-new-accademic-year-Jan-18.png
END:VEVENT
END:VCALENDAR