BEGIN:VCALENDAR
VERSION:2.0
PRODID:-//The Trinitarians - India - ECPv5.3.2.1//NONSGML v1.0//EN
CALSCALE:GREGORIAN
METHOD:PUBLISH
X-WR-CALNAME:The Trinitarians - India
X-ORIGINAL-URL:https://trinitariansindia.org/wp
X-WR-CALDESC:Events for The Trinitarians - India
BEGIN:VTIMEZONE
TZID:UTC
BEGIN:STANDARD
TZOFFSETFROM:+0000
TZOFFSETTO:+0000
TZNAME:UTC
DTSTART:20230101T000000
END:STANDARD
END:VTIMEZONE
BEGIN:VEVENT
DTSTART;VALUE=DATE:20231104
DTEND;VALUE=DATE:20231106
DTSTAMP:20260422T021347
CREATED:20231217T054956Z
LAST-MODIFIED:20231217T054956Z
UID:12780-1699056000-1699228799@trinitariansindia.org
SUMMARY:Parents' Day
DESCRIPTION:The community welcomed the parents of the third year theologians\, namely\, Bros. Bibin Michael\, Anugrah Mattappilly and Jeevan V. Jose and celebrated Parents’ Day expressing our gratitude for their sacrifice of letting their sons commit their life to the Blessed Trinity through the Trinitarian Order.  They were with the community for two days.
URL:https://trinitariansindia.org/wp/event/parents-day-4/
LOCATION:Holy Trinity Ashram – Bengaluru\, Holy Trinity Ashram\, Bengaluru\, karnataka\, 560076\, India
CATEGORIES:Celebration
ATTACH;FMTTYPE=image/png:https://trinitariansindia.org/wp/wp-content/uploads/2023/12/BLR-parents-day-Nov2023.png
END:VEVENT
END:VCALENDAR