BEGIN:VCALENDAR
VERSION:2.0
PRODID:-//The Trinitarians - India - ECPv5.3.2.1//NONSGML v1.0//EN
CALSCALE:GREGORIAN
METHOD:PUBLISH
X-WR-CALNAME:The Trinitarians - India
X-ORIGINAL-URL:https://trinitariansindia.org/wp
X-WR-CALDESC:Events for The Trinitarians - India
BEGIN:VTIMEZONE
TZID:UTC
BEGIN:STANDARD
TZOFFSETFROM:+0000
TZOFFSETTO:+0000
TZNAME:UTC
DTSTART:20160101T000000
END:STANDARD
END:VTIMEZONE
BEGIN:VEVENT
DTSTART;VALUE=DATE:20161007
DTEND;VALUE=DATE:20161008
DTSTAMP:20260423T053336
CREATED:20161123T125129Z
LAST-MODIFIED:20161123T125129Z
UID:1849-1475798400-1475884799@trinitariansindia.org
SUMMARY:Pastoral Visitation
DESCRIPTION:The Pastoral visitation took place. Fr. Simine presided over the Eucharistic celebration on 8th and received 4 brothers: Bibin\, Doyal\, Tibin and Tom into novitiate. A few priests from the neighbouring parishes were with us for the dinner.
URL:https://trinitariansindia.org/wp/event/pastoral-visitation/
LOCATION:Holy Trinity Ashram\, Kasaragod
CATEGORIES:Visit
ATTACH;FMTTYPE=image/png:https://trinitariansindia.org/wp/wp-content/uploads/2016/11/Pastoral-Visitation.png
END:VEVENT
END:VCALENDAR