BEGIN:VCALENDAR
VERSION:2.0
PRODID:-//The Trinitarians - India - ECPv5.3.2.1//NONSGML v1.0//EN
CALSCALE:GREGORIAN
METHOD:PUBLISH
X-WR-CALNAME:The Trinitarians - India
X-ORIGINAL-URL:https://trinitariansindia.org/wp
X-WR-CALDESC:Events for The Trinitarians - India
BEGIN:VTIMEZONE
TZID:UTC
BEGIN:STANDARD
TZOFFSETFROM:+0000
TZOFFSETTO:+0000
TZNAME:UTC
DTSTART:20180101T000000
END:STANDARD
END:VTIMEZONE
BEGIN:VEVENT
DTSTART;VALUE=DATE:20181120
DTEND;VALUE=DATE:20181121
DTSTAMP:20260419T183840
CREATED:20181216T045637Z
LAST-MODIFIED:20181216T045637Z
UID:5240-1542672000-1542758399@trinitariansindia.org
SUMMARY:Picnic for Class X Students
DESCRIPTION:The students of  Class X went to Dream Land amusement park for their picnic. They  were very happy and enjoyed the day very well.
URL:https://trinitariansindia.org/wp/event/picnic-for-class-x-students/
LOCATION:Tritva Bhavan\, Assam
CATEGORIES:Picnic/Tour
ATTACH;FMTTYPE=image/png:https://trinitariansindia.org/wp/wp-content/uploads/2018/12/ASSAM-Picnic-Class-X-Nov2018.png
END:VEVENT
END:VCALENDAR