BEGIN:VCALENDAR
VERSION:2.0
PRODID:-//The Trinitarians - India - ECPv5.3.2.1//NONSGML v1.0//EN
CALSCALE:GREGORIAN
METHOD:PUBLISH
X-WR-CALNAME:The Trinitarians - India
X-ORIGINAL-URL:https://trinitariansindia.org/wp
X-WR-CALDESC:Events for The Trinitarians - India
BEGIN:VTIMEZONE
TZID:UTC
BEGIN:STANDARD
TZOFFSETFROM:+0000
TZOFFSETTO:+0000
TZNAME:UTC
DTSTART:20190101T000000
END:STANDARD
END:VTIMEZONE
BEGIN:VEVENT
DTSTART;VALUE=DATE:20190422
DTEND;VALUE=DATE:20190423
DTSTAMP:20260423T042209
CREATED:20190503T164337Z
LAST-MODIFIED:20190503T164337Z
UID:5963-1555891200-1555977599@trinitariansindia.org
SUMMARY:Picnic to Bhutan
DESCRIPTION:The newly professed brothers were taken to Bhutan as picnic after they finished their five months ministry in Assam.
URL:https://trinitariansindia.org/wp/event/picnic-to-bhutan/
LOCATION:Tritva Bhavan\, Assam
CATEGORIES:Picnic/Tour
ATTACH;FMTTYPE=image/png:https://trinitariansindia.org/wp/wp-content/uploads/2019/05/ASSAM-picnic-April-2019.png
END:VEVENT
END:VCALENDAR